Workbook

Sheet 02-05.01.2024
A1: Одделение | B1: Одд. за собирање и транспортирање комунален отпад од домаќинства | E1: Одд. за одржување на јавна чистота | G1: Одд. за соб. и транс. на ком. отпад од домаќинства | H1: Одд. за сервисирање на правни субјекти со сопствени садови | J1: Одд. за кабаст отпад, градежен шут и третман на фекални води | M1: Одд. за Еко Патрола | N1: Одд. за подигање на отпад од пакување (служ. за хуман третман на животни) | O1: Број на јавувања
A2: Departamenti | B2: Dep. për mbledhjen dhe transportin e mbetjes komunale nga amvisëritë | E2: Dep. për mirëmbajtjen e pastërtisë publike | G2: (подземни контејнери) | H2: Dep. për servisimin e subjekteve juridikë me enë vetjake | J2: Dep për mbetje të vëllimshme, mbetje ndërtimtarie dhe për trajtim të ujërave të zezë | O2: Numri i thirrjeve
A3: Општини | B3: Канти | C3: Контејнери | D3: Бар. садови | E3: Метење | F3: Миење | G3: Dep. për mbledhjen dhe transportin e mbetjes kom.nga amvisëritë (kontejnerë nëntokësorë | H3: Подигање | I3: Бар.садови | J3: Кабаст отпад | K3: Градежен шут | L3: Фекални води | M3: Dep. i Eko – Patrullës | N3: Dep. për mbledhjen e mbetjes nga paketimi (shërbimi për trajtim human të kafshëve) | O3: Одговорени Të përgjigjura | P3: Неодговорени Pa përgjigje | Q3: Вкупно Gjithsej
A4: Komunat | B4: Kosha | C4: Kontejnerë | D4: Enë të kërkuara | E4: Fshirje | F4: Lare | I4: Ngritje | J4: Mbetje e vëllimshme | K4: Mbetje nga ndërtimaria | L4: Ujra të zezë | O4: Të përgjigjura | P4: Pa përgjigje | Q4: Gjithsej
A5: Центар Qendër | O5: 0 | P5: 0 | Q5: 0
A6: Аеродром Aerodrom | J6: 1 | O6: 0 | P6: 1 | Q6: 1
A7: Карпош Karposh | B7: 8 | C7: 1 | O7: 0 | P7: 9 | Q7: 9
A8: Кисела Вода Kisela Vodë | B8: 5 | H8: 1 | O8: 0 | P8: 6 | Q8: 6
A9: Гази Баба Gazi Babë | B9: 3 | O9: 0 | P9: 3 | Q9: 3
A10: Ѓорче Петров Gjorqe Petrov | B10: 5 | N10: 1 | O10: 0 | P10: 6 | Q10: 6
A11: Бутел Butel | B11: 2 | O11: 0 | P11: 2 | Q11: 2
A12: Ш. Оризари Sh. Orizare | O12: 0 | P12: 0 | Q12: 0
A13: Чаир Çair | O13: 0 | P13: 0 | Q13: 0
A14: Сарај Saraj | O14: 0 | P14: 0 | Q14: 0
A15: Вкупно Gjithsej | B15: 23 | C15: 1 | H15: 1 | J15: 1 | N15: 1 | O15: 0 | P15: 27 | Q15: 27
A16: Напомена: 47 јавувања за сметководство, финансии и наплата, истите се препратени за директен контакт со одделениата.
A17: Shënim: 47 thirrjet për kontabilitet, financa dhe pagesa, përcillen për kontakt të drejtpërdrejtë më departamentet.
A18: Изготвила / Përgatiti: Раководител на ОДД. Грижа за корисници
A19: Денис Бошњак, Самир Исмаили Udhëheqësi I Dep. Kujdesi ndaj shfrytëzuesve
A20: Фросина Ивановска

Sheet 08-12.01.2024
A1: Одделение | B1: Одд. за собирање и транспортирање комунален отпад од домаќинства | E1: Одд. за одржување на јавна чистота | G1: Одд. за соб. и транс. на ком. отпад од домаќинства | H1: Одд. за сервисирање на правни субјекти со сопствени садови | J1: Одд. за кабаст отпад, градежен шут и третман на фекални води | M1: Одд. за Еко Патрола | N1: Одд. за подигање на отпад од пакување (служ. за хуман третман на животни) | O1: Број на јавувања
A2: Departamenti | B2: Dep. për mbledhjen dhe transportin e mbetjes komunale nga amvisëritë | E2: Dep. për mirëmbajtjen e pastërtisë publike | G2: (подземни контејнери) | H2: Dep. për servisimin e subjekteve juridikë me enë vetjake | J2: Dep për mbetje të vëllimshme, mbetje ndërtimtarie dhe për trajtim të ujërave të zezë | O2: Numri i thirrjeve
A3: Општини | B3: Канти | C3: Контејнери | D3: Бар. садови | E3: Метење | F3: Миење | G3: Dep. për mbledhjen dhe transportin e mbetjes kom.nga amvisëritë (kontejnerë nëntokësorë | H3: Подигање | I3: Бар.садови | J3: Кабаст отпад | K3: Градежен шут | L3: Фекални води | M3: Dep. i Eko – Patrullës | N3: Dep. për mbledhjen e mbetjes nga paketimi (shërbimi për trajtim human të kafshëve) | O3: Одговорени Të përgjigjura | P3: Неодговорени Pa përgjigje | Q3: Вкупно Gjithsej
A4: Komunat | B4: Kosha | C4: Kontejnerë | D4: Enë të kërkuara | E4: Fshirje | F4: Lare | I4: Ngritje | J4: Mbetje e vëllimshme | K4: Mbetje nga ndërtimaria | L4: Ujra të zezë | O4: Të përgjigjura | P4: Pa përgjigje | Q4: Gjithsej
A5: Центар Qendër | O5: 0 | P5: 0 | Q5: 0
A6: Аеродром Aerodrom | O6: 0 | P6: 0 | Q6: 0
A7: Карпош Karposh | B7: 1 | H7: 1 | O7: 0 | P7: 2 | Q7: 2
A8: Кисела Вода Kisela Vodë | B8: 1 | H8: 1 | N8: 2 | O8: 0 | P8: 4 | Q8: 4
A9: Гази Баба Gazi Babë | B9: 1 | O9: 0 | P9: 1 | Q9: 1
A10: Ѓорче Петров Gjorqe Petrov | B10: 3 | O10: 0 | P10: 3 | Q10: 3
A11: Бутел Butel | B11: 1 | H11: 1 | O11: 0 | P11: 2 | Q11: 2
A12: Ш. Оризари Sh. Orizare | O12: 0 | P12: 0 | Q12: 0
A13: Чаир Çair | O13: 0 | P13: 0 | Q13: 0
A14: Сарај Saraj | B14: 1 | O14: 0 | P14: 1 | Q14: 1
A15: Вкупно Gjithsej | B15: 8 | H15: 3 | N15: 2 | O15: 0 | P15: 13 | Q15: 13
A16: Напомена: 26 јавувања за сметководство, финансии и наплата, истите се препратени за директен контакт со одделениата.
A17: Shënim: 26 thirrjet për kontabilitet, financa dhe pagesa, përcillen për kontakt të drejtpërdrejtë më departamentet.
A18: Изготвила / Përgatiti: Раководител на ОДД. Грижа за корисници
A19: Денис Бошњак ,Самир Исмаили Udhëheqësi I Dep. Kujdesi ndaj shfrytëzuesve
A20: Фросина Ивановска

Sheet 15-19.01.2024
A1: Одделение | B1: Одд. за собирање и транспортирање комунален отпад од домаќинства | E1: Одд. за одржување на јавна чистота | G1: Одд. за соб. и транс. на ком. отпад од домаќинства | H1: Одд. за сервисирање на правни субјекти со сопствени садови | J1: Одд. за кабаст отпад, градежен шут и третман на фекални води | M1: Одд. за Еко Патрола | N1: Одд. за подигање на отпад од пакување (служ. за хуман третман на животни) | O1: Број на јавувања
A2: Departamenti | B2: Dep. për mbledhjen dhe transportin e mbetjes komunale nga amvisëritë | E2: Dep. për mirëmbajtjen e pastërtisë publike | G2: (подземни контејнери) | H2: Dep. për servisimin e subjekteve juridikë me enë vetjake | J2: Dep për mbetje të vëllimshme, mbetje ndërtimtarie dhe për trajtim të ujërave të zezë | O2: Numri i thirrjeve
A3: Општини | B3: Канти | C3: Контејнери | D3: Бар. садови | E3: Метење | F3: Миење | G3: Dep. për mbledhjen dhe transportin e mbetjes kom.nga amvisëritë (kontejnerë nëntokësorë | H3: Подигање | I3: Бар.садови | J3: Кабаст отпад | K3: Градежен шут | L3: Фекални води | M3: Dep. i Eko – Patrullës | N3: Dep. për mbledhjen e mbetjes nga paketimi (shërbimi për trajtim human të kafshëve) | O3: Одговорени Të përgjigjura | P3: Неодговорени Pa përgjigje | Q3: Вкупно Gjithsej
A4: Komunat | B4: Kosha | C4: Kontejnerë | D4: Enë të kërkuara | E4: Fshirje | F4: Lare | I4: Ngritje | J4: Mbetje e vëllimshme | K4: Mbetje nga ndërtimaria | L4: Ujra të zezë | O4: Të përgjigjura | P4: Pa përgjigje | Q4: Gjithsej
A5: Центар Qendër | H5: 1 | O5: 0 | P5: 1 | Q5: 1
A6: Аеродром Aerodrom | B6: 1 | H6: 1 | O6: 0 | P6: 2 | Q6: 2
A7: Карпош Karposh | B7: 4 | J7: 1 | O7: 0 | P7: 5 | Q7: 5
A8: Кисела Вода Kisela Vodë | O8: 0 | P8: 0 | Q8: 0
A9: Гази Баба Gazi Babë | B9: 1 | H9: 1 | O9: 0 | P9: 2 | Q9: 2
A10: Ѓорче Петров Gjorqe Petrov | B10: 1 | H10: 1 | O10: 1 | P10: 1 | Q10: 2
A11: Бутел Butel | B11: 1 | H11: 2 | O11: 0 | P11: 3 | Q11: 3
A12: Ш. Оризари Sh. Orizare | O12: 0 | P12: 0 | Q12: 0
A13: Чаир Çair | O13: 0 | P13: 0 | Q13: 0
A14: Сарај Saraj | B14: 1 | O14: 0 | P14: 1 | Q14: 1
A15: Вкупно Gjithsej | B15: 9 | H15: 6 | J15: 1 | O15: 1 | P15: 15 | Q15: 16
A16: Напомена: 17 јавувања за сметководство, финансии и наплата, истите се препратени за директен контакт со одделениата.
A17: Shënim: 17 thirrjet për kontabilitet, financa dhe pagesa, përcillen për kontakt të drejtpërdrejtë më departamentet.
A18: Изготвила / Përgatiti: Раководител на ОДД. Грижа за корисници
A19: Денис Бошњак , Самир Исмаили Udhëheqësi I Dep. Kujdesi ndaj shfrytëzuesve
A20: Фросе Ивановска

Sheet 22-26.01.2024
A1: Одделение | B1: Одд. за собирање и транспортирање комунален отпад од домаќинства | E1: Одд. за одржување на јавна чистота | G1: Одд. за соб. и транс. на ком. отпад од домаќинства | H1: Одд. за сервисирање на правни субјекти со сопствени садови | J1: Одд. за кабаст отпад, градежен шут и третман на фекални води | M1: Одд. за Еко Патрола | N1: Одд. за подигање на отпад од пакување (служ. за хуман третман на животни) | O1: Број на јавувања
A2: Departamenti | B2: Dep. për mbledhjen dhe transportin e mbetjes komunale nga amvisëritë | E2: Dep. për mirëmbajtjen e pastërtisë publike | G2: (подземни контејнери) | H2: Dep. për servisimin e subjekteve juridikë me enë vetjake | J2: Dep për mbetje të vëllimshme, mbetje ndërtimtarie dhe për trajtim të ujërave të zezë | O2: Numri i thirrjeve
A3: Општини | B3: Канти | C3: Контејнери | D3: Бар. садови | E3: Метење | F3: Миење | G3: Dep. për mbledhjen dhe transportin e mbetjes kom.nga amvisëritë (kontejnerë nëntokësorë | H3: Подигање | I3: Бар.садови | J3: Кабаст отпад | K3: Градежен шут | L3: Фекални води | M3: Dep. i Eko – Patrullës | N3: Dep. për mbledhjen e mbetjes nga paketimi (shërbimi për trajtim human të kafshëve) | O3: Одговорени Të përgjigjura | P3: Неодговорени Pa përgjigje | Q3: Вкупно Gjithsej
A4: Komunat | B4: Kosha | C4: Kontejnerë | D4: Enë të kërkuara | E4: Fshirje | F4: Lare | I4: Ngritje | J4: Mbetje e vëllimshme | K4: Mbetje nga ndërtimaria | L4: Ujra të zezë | O4: Të përgjigjura | P4: Pa përgjigje | Q4: Gjithsej
A5: Центар Qendër | B5: 1 | C5: 3 | N5: 1 | O5: 0 | P5: 5 | Q5: 5
A6: Аеродром Aerodrom | B6: 2 | C6: 5 | O6: 0 | P6: 7 | Q6: 7
A7: Карпош Karposh | B7: 10 | C7: 3 | H7: 1 | O7: 1 | P7: 13 | Q7: 14
A8: Кисела Вода Kisela Vodë | B8: 1 | C8: 1 | N8: 1 | O8: 0 | P8: 3 | Q8: 3
A9: Гази Баба Gazi Babë | B9: 5 | H9: 2 | O9: 2 | P9: 5 | Q9: 7
A10: Ѓорче Петров Gjorqe Petrov | B10: 2 | C10: 1 | H10: 1 | O10: 1 | P10: 3 | Q10: 4
A11: Бутел Butel | B11: 4 | O11: 0 | P11: 4 | Q11: 4
A12: Ш. Оризари Sh. Orizare | B12: 2 | O12: 0 | P12: 2 | Q12: 2
A13: Чаир Çair | O13: 0 | P13: 0 | Q13: 0
A14: Сарај Saraj | O14: 0 | P14: 0 | Q14: 0
A15: Вкупно Gjithsej | B15: =SUM(B5:B14) -> 27 | C15: =SUM(C5:C14) -> 13 | H15: =SUM(H5:H14) -> 4 | N15: =SUM(N5:N14) -> 2 | O15: =SUM(O5:O14) -> 4 | P15: =SUM(P5:P14) -> 42 | Q15: =SUM(Q5:Q14) -> 46
A16: Напомена: 85 јавувања за сметководство, финансии и наплата, истите се препратени за директен контакт со одделениата.
A17: Shënim: 85 thirrjet për kontabilitet, financa dhe pagesa, përcillen për kontakt të drejtpërdrejtë më departamentet.
A18: Изготвила / Përgatiti: Раководител на ОДД. Грижа за корисници
A19: Денис Бошњак ,Самир Исмаили Фросина Ивановска

Sheet 29-31.01.2024
A1: Одделение | B1: Одд. за собирање и транспортирање комунален отпад од домаќинства | E1: Одд. за одржување на јавна чистота | G1: Одд. за соб. и транс. на ком. отпад од домаќинства | H1: Одд. за сервисирање на правни субјекти со сопствени садови | J1: Одд. за кабаст отпад, градежен шут и третман на фекални води | M1: Одд. за Еко Патрола | N1: Одд. за подигање на отпад од пакување (служ. за хуман третман на животни) | O1: Број на јавувања
A2: Departamenti | B2: Dep. për mbledhjen dhe transportin e mbetjes komunale nga amvisëritë | E2: Dep. për mirëmbajtjen e pastërtisë publike | G2: (подземни контејнери) | H2: Dep. për servisimin e subjekteve juridikë me enë vetjake | J2: Dep për mbetje të vëllimshme, mbetje ndërtimtarie dhe për trajtim të ujërave të zezë | O2: Numri i thirrjeve
A3: Општини | B3: Канти | C3: Контејнери | D3: Бар. садови | E3: Метење | F3: Миење | G3: Dep. për mbledhjen dhe transportin e mbetjes kom.nga amvisëritë (kontejnerë nëntokësorë | H3: Подигање | I3: Бар.садови | J3: Кабаст отпад | K3: Градежен шут | L3: Фекални води | M3: Dep. i Eko – Patrullës | N3: Dep. për mbledhjen e mbetjes nga paketimi (shërbimi për trajtim human të kafshëve) | O3: Одговорени Të përgjigjura | P3: Неодговорени Pa përgjigje | Q3: Вкупно Gjithsej
A4: Komunat | B4: Kosha | C4: Kontejnerë | D4: Enë të kërkuara | E4: Fshirje | F4: Lare | I4: Ngritje | J4: Mbetje e vëllimshme | K4: Mbetje nga ndërtimaria | L4: Ujra të zezë | O4: Të përgjigjura | P4: Pa përgjigje | Q4: Gjithsej
A5: Центар Qendër | O5: 0 | P5: 0 | Q5: 0
A6: Аеродром Aerodrom | C6: 1 | O6: 0 | P6: 1 | Q6: 1
A7: Карпош Karposh | B7: 2 | H7: 1 | O7: 0 | P7: 3 | Q7: 3
A8: Кисела Вода Kisela Vodë | B8: 2 | O8: 0 | P8: 2 | Q8: 2
A9: Гази Баба Gazi Babë | B9: 7 | H9: 1 | O9: 2 | P9: 6 | Q9: 8
A10: Ѓорче Петров Gjorqe Petrov | B10: 1 | O10: 0 | P10: 1 | Q10: 1
A11: Бутел Butel | N11: 1 | O11: 0 | P11: 1 | Q11: 1
A12: Ш. Оризари Sh. Orizare | B12: 1 | O12: 0 | P12: 1 | Q12: 1
A13: Чаир Çair | O13: 0 | P13: 0 | Q13: 0
A14: Сарај Saraj | C14: =SUM(C5:C13) -> 1 | O14: 0 | P14: 1 | Q14: 1
A15: Вкупно Gjithsej | B15: =SUM(B5:B14) -> 13 | C15: 2 | H15: 2 | N15: 1 | O15: 2 | P15: =SUM(P5:P14) -> 16 | Q15: =SUM(Q5:Q14) -> 18
A16: Напомена: 26 јавувања за сметководство, финансии и наплата, истите се препратени за директен контакт со одделениата.
A17: Shënim: 26 thirrjet për kontabilitet, financa dhe pagesa, përcillen për kontakt të drejtpërdrejtë më departamentet.
A18: Изготвила / Përgatiti: Раководител на ОДД. Грижа за корисници
A19: Денис Бошњак , Самир Исмаили Udhëheqësi I Dep. Kujdesi ndaj shfrytëzuesve
A20: Фросина Ивановска

Sheet 0
A1: Одделение | B1: Одд. за собирање и транспортирање комунален отпад од домаќинства | E1: Одд. за одржување на јавна чистота | G1: Одд. за соб. и транс. на ком. отпад од домаќинства | H1: Одд. за сервисирање на правни субјекти со сопствени садови | J1: Одд. за кабаст отпад, градежен шут и третман на фекални води | M1: Одд. за Еко Патрола | N1: Одд. за подигање на отпад од пакување (служ. за хуман третман на животни) | O1: Број на јавувања
A2: Departamenti | B2: Dep. për mbledhjen dhe transportin e mbetjes komunale nga amvisëritë | E2: Dep. për mirëmbajtjen e pastërtisë publike | G2: (подземни контејнери) | H2: Dep. për servisimin e subjekteve juridikë me enë vetjake | J2: Dep për mbetje të vëllimshme, mbetje ndërtimtarie dhe për trajtim të ujërave të zezë | O2: Numri i thirrjeve
A3: Општини | B3: Канти | C3: Контејнери | D3: Бар. садови | E3: Метење | F3: Миење | G3: Dep. për mbledhjen dhe transportin e mbetjes kom.nga amvisëritë (kontejnerë nëntokësorë | H3: Подигање | I3: Бар.садови | J3: Кабаст отпад | K3: Градежен шут | L3: Фекални води | M3: Dep. i Eko – Patrullës | N3: Dep. për mbledhjen e mbetjes nga paketimi (shërbimi për trajtim human të kafshëve) | O3: Одговорени Të përgjigjura | P3: Неодговорени Pa përgjigje | Q3: Вкупно Gjithsej
A4: Komunat | B4: Kosha | C4: Kontejnerë | D4: Enë të kërkuara | E4: Fshirje | F4: Lare | I4: Ngritje | J4: Mbetje e vëllimshme | K4: Mbetje nga ndërtimaria | L4: Ujra të zezë | O4: Të përgjigjura | P4: Pa përgjigje | Q4: Gjithsej
A5: Центар Qendër | Q5: =SUM(B5:N5) -> 0
A6: Аеродром Aerodrom | Q6: =SUM(B6:N6) -> 0
A7: Карпош Karposh | Q7: =SUM(B7:N7) -> 0
A8: Кисела Вода Kisela Vodë | Q8: =SUM(B8:N8) -> 0
A9: Гази Баба Gazi Babë | Q9: =SUM(B9:N9) -> 0
A10: Ѓорче Петров Gjorqe Petrov | Q10: =SUM(B10:N10) -> 0
A11: Бутел Butel | Q11: =SUM(B11:N11) -> 0
A12: Ш. Оризари Sh. Orizare | Q12: =SUM(B12:N12) -> 0
A13: Чаир Çair | Q13: =SUM(B13:N13) -> 0
A14: Сарај Saraj | Q14: =SUM(B14:N14) -> 0
A15: Вкупно Gjithsej | B15: =SUM(B5:B14) -> 0 | C15: =SUM(C5:C14) -> 0 | D15: =SUM(D5:D14) -> 0 | E15: =SUM(E5:E14) -> 0 | F15: =SUM(F5:F14) -> 0 | G15: =SUM(G5:G14) -> 0 | H15: =SUM(H5:H14) -> 0 | I15: =SUM(I5:I14) -> 0 | ... P15: =SUM(P5:P14) -> 0
A16: Напомена: јавувања за сметководство, финансии и наплата, истите се препратени за директен контакт со одделениата.
A17: Shënim: thirrjet për kontabilitet, financa dhe pagesa, përcillen për kontakt të drejtpërdrejtë më departamentet.
A18: Изготвила / Përgatiti: Раководител на ОДД. Грижа за корисници
A19: Петровска Билјана Udhëheqësi I Dep. Kujdesi ndaj shfrytëzuesve

Sheet 1
A1: Одделение | B1: Одд. за собирање и транспортирање комунален отпад од домаќинства | E1: Одд. за одржување на јавна чистота | G1: Одд. за соб. и транс. на ком. отпад од домаќинства | H1: Одд. за сервисирање на правни субјекти со сопствени садови | J1: Одд. за кабаст отпад, градежен шут и третман на фекални води | M1: Одд. за Еко Патрола | N1: Одд. за подигање на отпад од пакување (служ. за хуман третман на животни) | O1: Број на јавувања
A2: Departamenti | B2: Dep. për mbledhjen dhe transportin e mbetjes komunale nga amvisëritë | E2: Dep. për mirëmbajtjen e pastërtisë publike | G2: (подземни контејнери) | H2: Dep. për servisimin e subjekteve juridikë me enë vetjake | J2: Dep për mbetje të vëllimshme, mbetje ndërtimtarie dhe për trajtim të ujërave të zezë | O2: Numri i thirrjeve
A3: Општини | B3: Канти | C3: Контејнери | D3: Бар. садови | E3: Метење | F3: Миење | G3: Dep. për mbledhjen dhe transportin e mbetjes kom.nga amvisëritë (kontejnerë nëntokësorë | H3: Подигање | I3: Бар.садови | J3: Кабаст отпад | K3: Градежен шут | L3: Фекални води | M3: Dep. i Eko – Patrullës | N3: Dep. për mbledhjen e mbetjes nga paketimi (shërbimi për trajtim human të kafshëve) | O3: Одговорени Të përgjigjura | P3: Неодговорени Pa përgjigje | Q3: Вкупно Gjithsej
A4: Komunat | B4: Kosha | C4: Kontejnerë | D4: Enë të kërkuara | E4: Fshirje | F4: Lare | I4: Ngritje | J4: Mbetje e vëllimshme | K4: Mbetje nga ndërtimaria | L4: Ujra të zezë | O4: Të përgjigjura | P4: Pa përgjigje | Q4: Gjithsej
A5: Центар Qendër | B5: ='02-05.01.2024'!B5+'08-12.01.2024'!B5+'15-19.01.2024'!B5 -> 0 | C5: ='02-05.01.2024'!C5+'08-12.01.2024'!C5+'15-19.01.2024'!C5 -> 0 | D5: ='02-05.01.2024'!D5+'08-12.01.2024'!D5+'15-19.01.2024'!D5 -> 0 | E5: ='02-05.01.2024'!E5+'08-12.01.2024'!E5+'15-19.01.2024'!E5 -> 0 | F5: ='02-05.01.2024'!F5+'08-12.01.2024'!F5+'15-19.01.2024'!F5 -> 0 | G5: ='02-05.01.2024'!G5+'15-19.01.2024'!G5+'22-26.01.2024'!G5 -> 0 | H5: ='02-05.01.2024'!H5+'08-12.01.2024'!H5+'15-19.01.2024'!H5 -> 1 | I5: ='02-05.01.2024'!I5+'08-12.01.2024'!I5+'15-19.01.2024'!I5 -> 0 | J5: ='02-05.01.2024'!J5+'08-12.01.2024'!J5+'15-19.01.2024'!J5 -> 0 | K5: ='02-05.01.2024'!K5+'08-12.01.2024'!K5+'15-19.01.2024'!K5 -> 0 | L5: ='02-05.01.2024'!L5+'08-12.01.2024'!L5+'15-19.01.2024'!L5 -> 0 | M5: ='02-05.01.2024'!M5+'08-12.01.2024'!M5+'15-19.01.2024'!M5 -> 0 | N5: ='02-05.01.2024'!N5+'08-12.01.2024'!N5+'15-19.01.2024'!N5 -> 0 | O5: ='02-05.01.2024'!O5+'08-12.01.2024'!O5+'15-19.01.2024'!O5 -> 0 | P5: ='02-05.01.2024'!P5+'08-12.01.2024'!P5+'15-19.01.2024'!P5 -> 1 | Q5: =SUM(B5:N5) -> 1
A6: Аеродром Aerodrom | B6: ='02-05.01.2024'!B6+'08-12.01.2024'!B6+'15-19.01.2024'!B6 -> 1 | C6: ='02-05.01.2024'!C6+'08-12.01.2024'!C6+'15-19.01.2024'!C6 -> 0 | D6: ='02-05.01.2024'!D6+'08-12.01.2024'!D6+'15-19.01.2024'!D6 -> 0 | E6: ='02-05.01.2024'!E6+'08-12.01.2024'!E6+'15-19.01.2024'!E6 -> 0 | F6: ='02-05.01.2024'!F6+'08-12.01.2024'!F6+'15-19.01.2024'!F6 -> 0 | G6: ='02-05.01.2024'!G6+'15-19.01.2024'!G6+'22-26.01.2024'!G6 -> 0 | H6: ='02-05.01.2024'!H6+'08-12.01.2024'!H6+'15-19.01.2024'!H6 -> 1 | I6: ='02-05.01.2024'!I6+'08-12.01.2024'!I6+'15-19.01.2024'!I6 -> 0 | J6: ='02-05.01.2024'!J6+'08-12.01.2024'!J6+'15-19.01.2024'!J6 -> 1 | K6: ='02-05.01.2024'!K6+'08-12.01.2024'!K6+'15-19.01.2024'!K6 -> 0 | L6: ='02-05.01.2024'!L6+'08-12.01.2024'!L6+'15-19.01.2024'!L6 -> 0 | M6: ='02-05.01.2024'!M6+'08-12.01.2024'!M6+'15-19.01.2024'!M6 -> 0 | N6: ='02-05.01.2024'!N6+'08-12.01.2024'!N6+'15-19.01.2024'!N6 -> 0 | O6: ='02-05.01.2024'!O6+'08-12.01.2024'!O6+'15-19.01.2024'!O6 -> 0 | P6: ='02-05.01.2024'!P6+'08-12.01.2024'!P6+'15-19.01.2024'!P6 -> 3 | Q6: =SUM(B6:N6) -> 3
A7: Карпош Karposh | B7: ='02-05.01.2024'!B7+'08-12.01.2024'!B7+'15-19.01.2024'!B7 -> 13 | C7: ='02-05.01.2024'!C7+'08-12.01.2024'!C7+'15-19.01.2024'!C7 -> 1 | D7: ='02-05.01.2024'!D7+'08-12.01.2024'!D7+'15-19.01.2024'!D7 -> 0 | E7: ='02-05.01.2024'!E7+'08-12.01.2024'!E7+'15-19.01.2024'!E7 -> 0 | F7: ='02-05.01.2024'!F7+'08-12.01.2024'!F7+'15-19.01.2024'!F7 -> 0 | G7: ='02-05.01.2024'!G7+'15-19.01.2024'!G7+'22-26.01.2024'!G7 -> 0 | H7: ='02-05.01.2024'!H7+'08-12.01.2024'!H7+'15-19.01.2024'!H7 -> 1 | I7: ='02-05.01.2024'!I7+'08-12.01.2024'!I7+'15-19.01.2024'!I7 -> 0 | J7: ='02-05.01.2024'!J7+'08-12.01.2024'!J7+'15-19.01.2024'!J7 -> 1 | K7: ='02-05.01.2024'!K7+'08-12.01.2024'!K7+'15-19.01.2024'!K7 -> 0 | L7: ='02-05.01.2024'!L7+'08-12.01.2024'!L7+'15-19.01.2024'!L7 -> 0 | M7: ='02-05.01.2024'!M7+'08-12.01.2024'!M7+'15-19.01.2024'!M7 -> 0 | N7: ='02-05.01.2024'!N7+'08-12.01.2024'!N7+'15-19.01.2024'!N7 -> 0 | O7: ='02-05.01.2024'!O7+'08-12.01.2024'!O7+'15-19.01.2024'!O7 -> 0 | P7: ='02-05.01.2024'!P7+'08-12.01.2024'!P7+'15-19.01.2024'!P7 -> 16 | Q7: =SUM(B7:N7) -> 16
A8: Кисела Вода Kisela Vodë | B8: ='02-05.01.2024'!B8+'08-12.01.2024'!B8+'15-19.01.2024'!B8 -> 6 | C8: ='02-05.01.2024'!C8+'08-12.01.2024'!C8+'15-19.01.2024'!C8 -> 0 | D8: ='02-05.01.2024'!D8+'08-12.01.2024'!D8+'15-19.01.2024'!D8 -> 0 | E8: ='02-05.01.2024'!E8+'08-12.01.2024'!E8+'15-19.01.2024'!E8 -> 0 | F8: ='02-05.01.2024'!F8+'08-12.01.2024'!F8+'15-19.01.2024'!F8 -> 0 | G8: ='02-05.01.2024'!G8+'15-19.01.2024'!G8+'22-26.01.2024'!G8 -> 0 | H8: ='02-05.01.2024'!H8+'08-12.01.2024'!H8+'15-19.01.2024'!H8 -> 2 | I8: ='02-05.01.2024'!I8+'08-12.01.2024'!I8+'15-19.01.2024'!I8 -> 0 | J8: ='02-05.01.2024'!J8+'08-12.01.2024'!J8+'15-19.01.2024'!J8 -> 0 | K8: ='02-05.01.2024'!K8+'08-12.01.2024'!K8+'15-19.01.2024'!K8 -> 0 | L8: ='02-05.01.2024'!L8+'08-12.01.2024'!L8+'15-19.01.2024'!L8 -> 0 | M8: ='02-05.01.2024'!M8+'08-12.01.2024'!M8+'15-19.01.2024'!M8 -> 0 | N8: ='02-05.01.2024'!N8+'08-12.01.2024'!N8+'15-19.01.2024'!N8 -> 2 | O8: ='02-05.01.2024'!O8+'08-12.01.2024'!O8+'15-19.01.2024'!O8 -> 0 | P8: ='02-05.01.2024'!P8+'08-12.01.2024'!P8+'15-19.01.2024'!P8 -> 10 | Q8: =SUM(B8:N8) -> 10
A9: Гази Баба Gazi Babë | B9: ='02-05.01.2024'!B9+'08-12.01.2024'!B9+'15-19.01.2024'!B9 -> 5 | C9: ='02-05.01.2024'!C9+'08-12.01.2024'!C9+'15-19.01.2024'!C9 -> 0 | D9: ='02-05.01.2024'!D9+'08-12.01.2024'!D9+'15-19.01.2024'!D9 -> 0 | E9: ='02-05.01.2024'!E9+'08-12.01.2024'!E9+'15-19.01.2024'!E9 -> 0 | F9: ='02-05.01.2024'!F9+'08-12.01.2024'!F9+'15-19.01.2024'!F9 -> 0 | G9: ='02-05.01.2024'!G9+'15-19.01.2024'!G9+'22-26.01.2024'!G9 -> 0 | H9: ='02-05.01.2024'!H9+'08-12.01.2024'!H9+'15-19.01.2024'!H9 -> 1 | I9: ='02-05.01.2024'!I9+'08-12.01.2024'!I9+'15-19.01.2024'!I9 -> 0 | J9: ='02-05.01.2024'!J9+'08-12.01.2024'!J9+'15-19.01.2024'!J9 -> 0 | K9: ='02-05.01.2024'!K9+'08-12.01.2024'!K9+'15-19.01.2024'!K9 -> 0 | L9: ='02-05.01.2024'!L9+'08-12.01.2024'!L9+'15-19.01.2024'!L9 -> 0 | M9: ='02-05.01.2024'!M9+'08-12.01.2024'!M9+'15-19.01.2024'!M9 -> 0 | N9: ='02-05.01.2024'!N9+'08-12.01.2024'!N9+'15-19.01.2024'!N9 -> 0 | O9: ='02-05.01.2024'!O9+'08-12.01.2024'!O9+'15-19.01.2024'!O9 -> 0 | P9: ='02-05.01.2024'!P9+'08-12.01.2024'!P9+'15-19.01.2024'!P9 -> 6 | Q9: =SUM(B9:N9) -> 6
A10: Ѓорче Петров Gjorqe Petrov | B10: ='02-05.01.2024'!B10+'08-12.01.2024'!B10+'15-19.01.2024'!B10 -> 9 | C10: ='02-05.01.2024'!C10+'08-12.01.2024'!C10+'15-19.01.2024'!C10 -> 0 | D10: ='02-05.01.2024'!D10+'08-12.01.2024'!D10+'15-19.01.2024'!D10 -> 0 | E10: ='02-05.01.2024'!E10+'08-12.01.2024'!E10+'15-19.01.2024'!E10 -> 0 | F10: ='02-05.01.2024'!F10+'08-12.01.2024'!F10+'15-19.01.2024'!F10 -> 0 | G10: ='02-05.01.2024'!G10+'15-19.01.2024'!G10+'22-26.01.2024'!G10 -> 0 | H10: ='02-05.01.2024'!H10+'08-12.01.2024'!H10+'15-19.01.2024'!H10 -> 1 | I10: ='02-05.01.2024'!I10+'08-12.01.2024'!I10+'15-19.01.2024'!I10 -> 0 | J10: ='02-05.01.2024'!J10+'08-12.01.2024'!J10+'15-19.01.2024'!J10 -> 0 | K10: ='02-05.01.2024'!K10+'08-12.01.2024'!K10+'15-19.01.2024'!K10 -> 0 | L10: ='02-05.01.2024'!L10+'08-12.01.2024'!L10+'15-19.01.2024'!L10 -> 0 | M10: ='02-05.01.2024'!M10+'08-12.01.2024'!M10+'15-19.01.2024'!M10 -> 0 | N10: ='02-05.01.2024'!N10+'08-12.01.2024'!N10+'15-19.01.2024'!N10 -> 1 | O10: ='02-05.01.2024'!O10+'08-12.01.2024'!O10+'15-19.01.2024'!O10 -> 1 | P10: ='02-05.01.2024'!P10+'08-12.01.2024'!P10+'15-19.01.2024'!P10 -> 10 | Q10: =SUM(B10:N10) -> 11
A11: Бутел Butel | B11: ='02-05.01.2024'!B11+'08-12.01.2024'!B11+'15-19.01.2024'!B11 -> 4 | C11: ='02-05.01.2024'!C11+'08-12.01.2024'!C11+'15-19.01.2024'!C11 -> 0 | D11: ='02-05.01.2024'!D11+'08-12.01.2024'!D11+'15-19.01.2024'!D11 -> 0 | E11: ='02-05.01.2024'!E11+'08-12.01.2024'!E11+'15-19.01.2024'!E11 -> 0 | F11: ='02-05.01.2024'!F11+'08-12.01.2024'!F11+'15-19.01.2024'!F11 -> 0 | G11: ='02-05.01.2024'!G11+'15-19.01.2024'!G11+'22-26.01.2024'!G11 -> 0 | H11: ='02-05.01.2024'!H11+'08-12.01.2024'!H11+'15-19.01.2024'!H11 -> 3 | I11: ='02-05.01.2024'!I11+'08-12.01.2024'!I11+'15-19.01.2024'!I11 -> 0 | J11: ='02-05.01.2024'!J11+'08-12.01.2024'!J11+'15-19.01.2024'!J11 -> 0 | K11: ='02-05.01.2024'!K11+'08-12.01.2024'!K11+'15-19.01.2024'!K11 -> 0 | L11: ='02-05.01.2024'!L11+'08-12.01.2024'!L11+'15-19.01.2024'!L11 -> 0 | M11: ='02-05.01.2024'!M11+'08-12.01.2024'!M11+'15-19.01.2024'!M11 -> 0 | N11: ='02-05.01.2024'!N11+'08-12.01.2024'!N11+'15-19.01.2024'!N11 -> 0 | O11: ='02-05.01.2024'!O11+'08-12.01.2024'!O11+'15-19.01.2024'!O11 -> 0 | P11: ='02-05.01.2024'!P11+'08-12.01.2024'!P11+'15-19.01.2024'!P11 -> 7 | Q11: =SUM(B11:N11) -> 7
A12: Ш. Оризари Sh. Orizare | B12: ='02-05.01.2024'!B12+'08-12.01.2024'!B12+'15-19.01.2024'!B12 -> 0 | C12: ='02-05.01.2024'!C12+'08-12.01.2024'!C12+'15-19.01.2024'!C12 -> 0 | D12: ='02-05.01.2024'!D12+'08-12.01.2024'!D12+'15-19.01.2024'!D12 -> 0 | E12: ='02-05.01.2024'!E12+'08-12.01.2024'!E12+'15-19.01.2024'!E12 -> 0 | F12: ='02-05.01.2024'!F12+'08-12.01.2024'!F12+'15-19.01.2024'!F12 -> 0 | G12: ='02-05.01.2024'!G12+'15-19.01.2024'!G12+'22-26.01.2024'!G12 -> 0 | H12: ='02-05.01.2024'!H12+'08-12.01.2024'!H12+'15-19.01.2024'!H12 -> 0 | I12: ='02-05.01.2024'!I12+'08-12.01.2024'!I12+'15-19.01.2024'!I12 -> 0 | J12: ='02-05.01.2024'!J12+'08-12.01.2024'!J12+'15-19.01.2024'!J12 -> 0 | K12: ='02-05.01.2024'!K12+'08-12.01.2024'!K12+'15-19.01.2024'!K12 -> 0 | L12: ='02-05.01.2024'!L12+'08-12.01.2024'!L12+'15-19.01.2024'!L12 -> 0 | M12: ='02-05.01.2024'!M12+'08-12.01.2024'!M12+'15-19.01.2024'!M12 -> 0 | N12: ='02-05.01.2024'!N12+'08-12.01.2024'!N12+'15-19.01.2024'!N12 -> 0 | O12: ='02-05.01.2024'!O12+'08-12.01.2024'!O12+'15-19.01.2024'!O12 -> 0 | P12: ='02-05.01.2024'!P12+'08-12.01.2024'!P12+'15-19.01.2024'!P12 -> 0 | Q12: =SUM(B12:N12) -> 0
A13: Чаир Çair | B13: ='02-05.01.2024'!B13+'08-12.01.2024'!B13+'15-19.01.2024'!B13 -> 0 | C13: ='02-05.01.2024'!C13+'08-12.01.2024'!C13+'15-19.01.2024'!C13 -> 0 | D13: ='02-05.01.2024'!D13+'08-12.01.2024'!D13+'15-19.01.2024'!D13 -> 0 | E13: ='02-05.01.2024'!E13+'08-12.01.2024'!E13+'15-19.01.2024'!E13 -> 0 | F13: ='02-05.01.2024'!F13+'08-12.01.2024'!F13+'15-19.01.2024'!F13 -> 0 | G13: ='02-05.01.2024'!G13+'15-19.01.2024'!G13+'22-26.01.2024'!G13 -> 0 | H13: ='02-05.01.2024'!H13+'08-12.01.2024'!H13+'15-19.01.2024'!H13 -> 0 | I13: ='02-05.01.2024'!I13+'08-12.01.2024'!I13+'15-19.01.2024'!I13 -> 0 | J13: ='02-05.01.2024'!J13+'08-12.01.2024'!J13+'15-19.01.2024'!J13 -> 0 | K13: ='02-05.01.2024'!K13+'08-12.01.2024'!K13+'15-19.01.2024'!K13 -> 0 | L13: ='02-05.01.2024'!L13+'08-12.01.2024'!L13+'15-19.01.2024'!L13 -> 0 | M13: ='02-05.01.2024'!M13+'08-12.01.2024'!M13+'15-19.01.2024'!M13 -> 0 | N13: ='02-05.01.2024'!N13+'08-12.01.2024'!N13+'15-19.01.2024'!N13 -> 0 | O13: ='02-05.01.2024'!O13+'08-12.01.2024'!O13+'15-19.01.2024'!O13 -> 0 | P13: ='02-05.01.2024'!P13+'08-12.01.2024'!P13+'15-19.01.2024'!P13 -> 0 | Q13: =SUM(B13:N13) -> 0
A14: Сарај Saraj | B14: ='02-05.01.2024'!B14+'08-12.01.2024'!B14+'15-19.01.2024'!B14 -> 2 | C14: ='02-05.01.2024'!C14+'08-12.01.2024'!C14+'15-19.01.2024'!C14 -> 0 | D14: ='02-05.01.2024'!D14+'08-12.01.2024'!D14+'15-19.01.2024'!D14 -> 0 | E14: ='02-05.01.2024'!E14+'08-12.01.2024'!E14+'15-19.01.2024'!E14 -> 0 | F14: ='02-05.01.2024'!F14+'08-12.01.2024'!F14+'15-19.01.2024'!F14 -> 0 | G14: ='02-05.01.2024'!G14+'15-19.01.2024'!G14+'22-26.01.2024'!G14 -> 0 | H14: ='02-05.01.2024'!H14+'08-12.01.2024'!H14+'15-19.01.2024'!H14 -> 0 | I14: ='02-05.01.2024'!I14+'08-12.01.2024'!I14+'15-19.01.2024'!I14 -> 0 | J14: ='02-05.01.2024'!J14+'08-12.01.2024'!J14+'15-19.01.2024'!J14 -> 0 | K14: ='02-05.01.2024'!K14+'08-12.01.2024'!K14+'15-19.01.2024'!K14 -> 0 | L14: ='02-05.01.2024'!L14+'08-12.01.2024'!L14+'15-19.01.2024'!L14 -> 0 | M14: ='02-05.01.2024'!M14+'08-12.01.2024'!M14+'15-19.01.2024'!M14 -> 0 | N14: ='02-05.01.2024'!N14+'08-12.01.2024'!N14+'15-19.01.2024'!N14 -> 0 | O14: ='02-05.01.2024'!O14+'08-12.01.2024'!O14+'15-19.01.2024'!O14 -> 0 | P14: ='02-05.01.2024'!P14+'08-12.01.2024'!P14+'15-19.01.2024'!P14 -> 2 | Q14: =SUM(B14:N14) -> 2
A15: Вкупно Gjithsej | B15: =SUM(B5:B14) -> 40 | C15: =SUM(C5:C14) -> 1 | D15: =SUM(D5:D14) -> 0 | E15: =SUM(E5:E14) -> 0 | F15: =SUM(F5:F14) -> 0 | G15: =SUM(G5:G14) -> 0 | H15: =SUM(H5:H14) -> 10 | I15: =SUM(I5:I14) -> 0 | ... P15: =SUM(P5:P14) -> 55 | Q15: =SUM(B15:N15) -> 56
A16: Напомена: јавувања за сметководство, финансии и наплата, истите се препратени за директен контакт со одделениата.
A17: Shënim: thirrjet për kontabilitet, financa dhe pagesa, përcillen për kontakt të drejtpërdrejtë më departamentet.
A18: Изготвила / Përgatiti: Раководител на ОДД. Грижа за корисници
A19: Петровска Билјана Udhëheqësi I Dep. Kujdesi ndaj shfrytëzuesve
A20: Fuat Murtezani

Sheet Месечен Јануари
A1: Одделение | B1: Одд. за собирање и транспортирање комунален отпад од домаќинства | E1: Одд. за одржување на јавна чистота | G1: Одд. за соб. и транс. на ком. отпад од домаќинства | H1: Одд. за сервисирање на правни субјекти со сопствени садови | J1: Одд. за кабаст отпад, градежен шут и третман на фекални води | M1: Одд. за Еко Патрола | N1: Одд. за подигање на отпад од пакување (служ. за хуман третман на животни) | O1: Број на јавувања
A2: Departamenti | B2: Dep. për mbledhjen dhe transportin e mbetjes komunale nga amvisëritë | E2: Dep. për mirëmbajtjen e pastërtisë publike | G2: (подземни контејнери) | H2: Dep. për servisimin e subjekteve juridikë me enë vetjake | J2: Dep për mbetje të vëllimshme, mbetje ndërtimtarie dhe për trajtim të ujërave të zezë | O2: Numri i thirrjeve
A3: Општини | B3: Канти | C3: Контејнери | D3: Бар. садови | E3: Метење | F3: Миење | G3: Dep. për mbledhjen dhe transportin e mbetjes kom.nga amvisëritë (kontejnerë nëntokësorë | H3: Подигање | I3: Бар.садови | J3: Кабаст отпад | K3: Градежен шут | L3: Фекални води | M3: Dep. i Eko – Patrullës | N3: Dep. për mbledhjen e mbetjes nga paketimi (shërbimi për trajtim human të kafshëve) | O3: Одговорени Të përgjigjura | P3: Неодговорени Pa përgjigje | Q3: Вкупно Gjithsej
A4: Komunat | B4: Kosha | C4: Kontejnerë | D4: Enë të kërkuara | E4: Fshirje | F4: Lare | I4: Ngritje | J4: Mbetje e vëllimshme | K4: Mbetje nga ndërtimaria | L4: Ujra të zezë | O4: Të përgjigjura | P4: Pa përgjigje | Q4: Gjithsej
A5: Центар Qendër | B5: ='02-05.01.2024'!B5+'08-12.01.2024'!B5+'15-19.01.2024'!B5+'22-26.01.2024'!B5+'29-31.01.2024'!B5+'0'!B5 -> 1 | C5: ='02-05.01.2024'!C5+'08-12.01.2024'!C5+'15-19.01.2024'!C5+'22-26.01.2024'!C5+'29-31.01.2024'!C5+'0'!C5 -> 3 | D5: ='02-05.01.2024'!D5+'08-12.01.2024'!D5+'15-19.01.2024'!D5+'22-26.01.2024'!D5+'29-31.01.2024'!D5+'0'!D5 -> 0 | E5: ='02-05.01.2024'!E5+'08-12.01.2024'!E5+'15-19.01.2024'!E5+'22-26.01.2024'!E5+'29-31.01.2024'!E5+'0'!E5 -> 0 | F5: ='02-05.01.2024'!F5+'08-12.01.2024'!F5+'15-19.01.2024'!F5+'22-26.01.2024'!F5+'29-31.01.2024'!F5+'0'!F5 -> 0 | G5: ='02-05.01.2024'!G5+'08-12.01.2024'!G5+'15-19.01.2024'!G5+'22-26.01.2024'!G5+'29-31.01.2024'!G5+'0'!G5 -> 0 | H5: ='02-05.01.2024'!H5+'08-12.01.2024'!H5+'15-19.01.2024'!H5+'22-26.01.2024'!H5+'29-31.01.2024'!H5+'0'!H5 -> 1 | I5: ='02-05.01.2024'!I5+'08-12.01.2024'!I5+'15-19.01.2024'!I5+'22-26.01.2024'!I5+'29-31.01.2024'!I5+'0'!I5 -> 0 | ... P5: ='02-05.01.2024'!P5+'08-12.01.2024'!P5+'15-19.01.2024'!P5+'22-26.01.2024'!P5+'29-31.01.2024'!P5+'0'!P5 -> 6 | Q5: =SUM(B5:N5) -> 6
A6: Аеродром Aerodrom | B6: ='02-05.01.2024'!B6+'08-12.01.2024'!B6+'15-19.01.2024'!B6+'22-26.01.2024'!B6+'29-31.01.2024'!B6+'0'!B6 -> 3 | C6: ='02-05.01.2024'!C6+'08-12.01.2024'!C6+'15-19.01.2024'!C6+'22-26.01.2024'!C6+'29-31.01.2024'!C6+'0'!C6 -> 6 | D6: ='02-05.01.2024'!D6+'08-12.01.2024'!D6+'15-19.01.2024'!D6+'22-26.01.2024'!D6+'29-31.01.2024'!D6+'0'!D6 -> 0 | E6: ='02-05.01.2024'!E6+'08-12.01.2024'!E6+'15-19.01.2024'!E6+'22-26.01.2024'!E6+'29-31.01.2024'!E6+'0'!E6 -> 0 | F6: ='02-05.01.2024'!F6+'08-12.01.2024'!F6+'15-19.01.2024'!F6+'22-26.01.2024'!F6+'29-31.01.2024'!F6+'0'!F6 -> 0 | G6: ='02-05.01.2024'!G6+'08-12.01.2024'!G6+'15-19.01.2024'!G6+'22-26.01.2024'!G6+'29-31.01.2024'!G6+'0'!G6 -> 0 | H6: ='02-05.01.2024'!H6+'08-12.01.2024'!H6+'15-19.01.2024'!H6+'22-26.01.2024'!H6+'29-31.01.2024'!H6+'0'!H6 -> 1 | I6: ='02-05.01.2024'!I6+'08-12.01.2024'!I6+'15-19.01.2024'!I6+'22-26.01.2024'!I6+'29-31.01.2024'!I6+'0'!I6 -> 0 | ... P6: ='02-05.01.2024'!P6+'08-12.01.2024'!P6+'15-19.01.2024'!P6+'22-26.01.2024'!P6+'29-31.01.2024'!P6+'0'!P6 -> 11 | Q6: =SUM(B6:N6) -> 11
A7: Карпош Karposh | B7: ='02-05.01.2024'!B7+'08-12.01.2024'!B7+'15-19.01.2024'!B7+'22-26.01.2024'!B7+'29-31.01.2024'!B7+'0'!B7 -> 25 | C7: ='02-05.01.2024'!C7+'08-12.01.2024'!C7+'15-19.01.2024'!C7+'22-26.01.2024'!C7+'29-31.01.2024'!C7+'0'!C7 -> 4 | D7: ='02-05.01.2024'!D7+'08-12.01.2024'!D7+'15-19.01.2024'!D7+'22-26.01.2024'!D7+'29-31.01.2024'!D7+'0'!D7 -> 0 | E7: ='02-05.01.2024'!E7+'08-12.01.2024'!E7+'15-19.01.2024'!E7+'22-26.01.2024'!E7+'29-31.01.2024'!E7+'0'!E7 -> 0 | F7: ='02-05.01.2024'!F7+'08-12.01.2024'!F7+'15-19.01.2024'!F7+'22-26.01.2024'!F7+'29-31.01.2024'!F7+'0'!F7 -> 0 | G7: ='02-05.01.2024'!G7+'08-12.01.2024'!G7+'15-19.01.2024'!G7+'22-26.01.2024'!G7+'29-31.01.2024'!G7+'0'!G7 -> 0 | H7: ='02-05.01.2024'!H7+'08-12.01.2024'!H7+'15-19.01.2024'!H7+'22-26.01.2024'!H7+'29-31.01.2024'!H7+'0'!H7 -> 3 | I7: ='02-05.01.2024'!I7+'08-12.01.2024'!I7+'15-19.01.2024'!I7+'22-26.01.2024'!I7+'29-31.01.2024'!I7+'0'!I7 -> 0 | ... P7: ='02-05.01.2024'!P7+'08-12.01.2024'!P7+'15-19.01.2024'!P7+'22-26.01.2024'!P7+'29-31.01.2024'!P7+'0'!P7 -> 32 | Q7: =SUM(B7:N7) -> 33
A8: Кисела Вода Kisela Vodë | B8: ='02-05.01.2024'!B8+'08-12.01.2024'!B8+'15-19.01.2024'!B8+'22-26.01.2024'!B8+'29-31.01.2024'!B8+'0'!B8 -> 9 | C8: ='02-05.01.2024'!C8+'08-12.01.2024'!C8+'15-19.01.2024'!C8+'22-26.01.2024'!C8+'29-31.01.2024'!C8+'0'!C8 -> 1 | D8: ='02-05.01.2024'!D8+'08-12.01.2024'!D8+'15-19.01.2024'!D8+'22-26.01.2024'!D8+'29-31.01.2024'!D8+'0'!D8 -> 0 | E8: ='02-05.01.2024'!E8+'08-12.01.2024'!E8+'15-19.01.2024'!E8+'22-26.01.2024'!E8+'29-31.01.2024'!E8+'0'!E8 -> 0 | F8: ='02-05.01.2024'!F8+'08-12.01.2024'!F8+'15-19.01.2024'!F8+'22-26.01.2024'!F8+'29-31.01.2024'!F8+'0'!F8 -> 0 | G8: ='02-05.01.2024'!G8+'08-12.01.2024'!G8+'15-19.01.2024'!G8+'22-26.01.2024'!G8+'29-31.01.2024'!G8+'0'!G8 -> 0 | H8: ='02-05.01.2024'!H8+'08-12.01.2024'!H8+'15-19.01.2024'!H8+'22-26.01.2024'!H8+'29-31.01.2024'!H8+'0'!H8 -> 2 | I8: ='02-05.01.2024'!I8+'08-12.01.2024'!I8+'15-19.01.2024'!I8+'22-26.01.2024'!I8+'29-31.01.2024'!I8+'0'!I8 -> 0 | ... P8: ='02-05.01.2024'!P8+'08-12.01.2024'!P8+'15-19.01.2024'!P8+'22-26.01.2024'!P8+'29-31.01.2024'!P8+'0'!P8 -> 15 | Q8: =SUM(B8:N8) -> 15
A9: Гази Баба Gazi Babë | B9: ='02-05.01.2024'!B9+'08-12.01.2024'!B9+'15-19.01.2024'!B9+'22-26.01.2024'!B9+'29-31.01.2024'!B9+'0'!B9 -> 17 | C9: ='02-05.01.2024'!C9+'08-12.01.2024'!C9+'15-19.01.2024'!C9+'22-26.01.2024'!C9+'29-31.01.2024'!C9+'0'!C9 -> 0 | D9: ='02-05.01.2024'!D9+'08-12.01.2024'!D9+'15-19.01.2024'!D9+'22-26.01.2024'!D9+'29-31.01.2024'!D9+'0'!D9 -> 0 | E9: ='02-05.01.2024'!E9+'08-12.01.2024'!E9+'15-19.01.2024'!E9+'22-26.01.2024'!E9+'29-31.01.2024'!E9+'0'!E9 -> 0 | F9: ='02-05.01.2024'!F9+'08-12.01.2024'!F9+'15-19.01.2024'!F9+'22-26.01.2024'!F9+'29-31.01.2024'!F9+'0'!F9 -> 0 | G9: ='02-05.01.2024'!G9+'08-12.01.2024'!G9+'15-19.01.2024'!G9+'22-26.01.2024'!G9+'29-31.01.2024'!G9+'0'!G9 -> 0 | H9: ='02-05.01.2024'!H9+'08-12.01.2024'!H9+'15-19.01.2024'!H9+'22-26.01.2024'!H9+'29-31.01.2024'!H9+'0'!H9 -> 4 | I9: ='02-05.01.2024'!I9+'08-12.01.2024'!I9+'15-19.01.2024'!I9+'22-26.01.2024'!I9+'29-31.01.2024'!I9+'0'!I9 -> 0 | ... P9: ='02-05.01.2024'!P9+'08-12.01.2024'!P9+'15-19.01.2024'!P9+'22-26.01.2024'!P9+'29-31.01.2024'!P9+'0'!P9 -> 17 | Q9: =SUM(B9:N9) -> 21
A10: Ѓорче Петров Gjorqe Petrov | B10: ='02-05.01.2024'!B10+'08-12.01.2024'!B10+'15-19.01.2024'!B10+'22-26.01.2024'!B10+'29-31.01.2024'!B10+'0'!B10 -> 12 | C10: ='02-05.01.2024'!C10+'08-12.01.2024'!C10+'15-19.01.2024'!C10+'22-26.01.2024'!C10+'29-31.01.2024'!C10+'0'!C10 -> 1 | D10: ='02-05.01.2024'!D10+'08-12.01.2024'!D10+'15-19.01.2024'!D10+'22-26.01.2024'!D10+'29-31.01.2024'!D10+'0'!D10 -> 0 | E10: ='02-05.01.2024'!E10+'08-12.01.2024'!E10+'15-19.01.2024'!E10+'22-26.01.2024'!E10+'29-31.01.2024'!E10+'0'!E10 -> 0 | F10: ='02-05.01.2024'!F10+'08-12.01.2024'!F10+'15-19.01.2024'!F10+'22-26.01.2024'!F10+'29-31.01.2024'!F10+'0'!F10 -> 0 | G10: ='02-05.01.2024'!G10+'08-12.01.2024'!G10+'15-19.01.2024'!G10+'22-26.01.2024'!G10+'29-31.01.2024'!G10+'0'!G10 -> 0 | H10: ='02-05.01.2024'!H10+'08-12.01.2024'!H10+'15-19.01.2024'!H10+'22-26.01.2024'!H10+'29-31.01.2024'!H10+'0'!H10 -> 2 | I10: ='02-05.01.2024'!I10+'08-12.01.2024'!I10+'15-19.01.2024'!I10+'22-26.01.2024'!I10+'29-31.01.2024'!I10+'0'!I10 -> 0 | ... P10: ='02-05.01.2024'!P10+'08-12.01.2024'!P10+'15-19.01.2024'!P10+'22-26.01.2024'!P10+'29-31.01.2024'!P10+'0'!P10 -> 14 | Q10: =SUM(B10:N10) -> 16
A11: Бутел Butel | B11: ='02-05.01.2024'!B11+'08-12.01.2024'!B11+'15-19.01.2024'!B11+'22-26.01.2024'!B11+'29-31.01.2024'!B11+'0'!B11 -> 8 | C11: ='02-05.01.2024'!C11+'08-12.01.2024'!C11+'15-19.01.2024'!C11+'22-26.01.2024'!C11+'29-31.01.2024'!C11+'0'!C11 -> 0 | D11: ='02-05.01.2024'!D11+'08-12.01.2024'!D11+'15-19.01.2024'!D11+'22-26.01.2024'!D11+'29-31.01.2024'!D11+'0'!D11 -> 0 | E11: ='02-05.01.2024'!E11+'08-12.01.2024'!E11+'15-19.01.2024'!E11+'22-26.01.2024'!E11+'29-31.01.2024'!E11+'0'!E11 -> 0 | F11: ='02-05.01.2024'!F11+'08-12.01.2024'!F11+'15-19.01.2024'!F11+'22-26.01.2024'!F11+'29-31.01.2024'!F11+'0'!F11 -> 0 | G11: ='02-05.01.2024'!G11+'08-12.01.2024'!G11+'15-19.01.2024'!G11+'22-26.01.2024'!G11+'29-31.01.2024'!G11+'0'!G11 -> 0 | H11: ='02-05.01.2024'!H11+'08-12.01.2024'!H11+'15-19.01.2024'!H11+'22-26.01.2024'!H11+'29-31.01.2024'!H11+'0'!H11 -> 3 | I11: ='02-05.01.2024'!I11+'08-12.01.2024'!I11+'15-19.01.2024'!I11+'22-26.01.2024'!I11+'29-31.01.2024'!I11+'0'!I11 -> 0 | ... P11: ='02-05.01.2024'!P11+'08-12.01.2024'!P11+'15-19.01.2024'!P11+'22-26.01.2024'!P11+'29-31.01.2024'!P11+'0'!P11 -> 12 | Q11: =SUM(B11:N11) -> 12
A12: Ш. Оризари Sh. Orizare | B12: ='02-05.01.2024'!B12+'08-12.01.2024'!B12+'15-19.01.2024'!B12+'22-26.01.2024'!B12+'29-31.01.2024'!B12+'0'!B12 -> 3 | C12: ='02-05.01.2024'!C12+'08-12.01.2024'!C12+'15-19.01.2024'!C12+'22-26.01.2024'!C12+'29-31.01.2024'!C12+'0'!C12 -> 0 | D12: ='02-05.01.2024'!D12+'08-12.01.2024'!D12+'15-19.01.2024'!D12+'22-26.01.2024'!D12+'29-31.01.2024'!D12+'0'!D12 -> 0 | E12: ='02-05.01.2024'!E12+'08-12.01.2024'!E12+'15-19.01.2024'!E12+'22-26.01.2024'!E12+'29-31.01.2024'!E12+'0'!E12 -> 0 | F12: ='02-05.01.2024'!F12+'08-12.01.2024'!F12+'15-19.01.2024'!F12+'22-26.01.2024'!F12+'29-31.01.2024'!F12+'0'!F12 -> 0 | G12: ='02-05.01.2024'!G12+'08-12.01.2024'!G12+'15-19.01.2024'!G12+'22-26.01.2024'!G12+'29-31.01.2024'!G12+'0'!G12 -> 0 | H12: ='02-05.01.2024'!H12+'08-12.01.2024'!H12+'15-19.01.2024'!H12+'22-26.01.2024'!H12+'29-31.01.2024'!H12+'0'!H12 -> 0 | I12: ='02-05.01.2024'!I12+'08-12.01.2024'!I12+'15-19.01.2024'!I12+'22-26.01.2024'!I12+'29-31.01.2024'!I12+'0'!I12 -> 0 | ... P12: ='02-05.01.2024'!P12+'08-12.01.2024'!P12+'15-19.01.2024'!P12+'22-26.01.2024'!P12+'29-31.01.2024'!P12+'0'!P12 -> 3 | Q12: =SUM(B12:N12) -> 3
A13: Чаир Çair | B13: ='02-05.01.2024'!B13+'08-12.01.2024'!B13+'15-19.01.2024'!B13+'22-26.01.2024'!B13+'29-31.01.2024'!B13+'0'!B13 -> 0 | C13: ='02-05.01.2024'!C13+'08-12.01.2024'!C13+'15-19.01.2024'!C13+'22-26.01.2024'!C13+'29-31.01.2024'!C13+'0'!C13 -> 0 | D13: ='02-05.01.2024'!D13+'08-12.01.2024'!D13+'15-19.01.2024'!D13+'22-26.01.2024'!D13+'29-31.01.2024'!D13+'0'!D13 -> 0 | E13: ='02-05.01.2024'!E13+'08-12.01.2024'!E13+'15-19.01.2024'!E13+'22-26.01.2024'!E13+'29-31.01.2024'!E13+'0'!E13 -> 0 | F13: ='02-05.01.2024'!F13+'08-12.01.2024'!F13+'15-19.01.2024'!F13+'22-26.01.2024'!F13+'29-31.01.2024'!F13+'0'!F13 -> 0 | G13: ='02-05.01.2024'!G13+'08-12.01.2024'!G13+'15-19.01.2024'!G13+'22-26.01.2024'!G13+'29-31.01.2024'!G13+'0'!G13 -> 0 | H13: ='02-05.01.2024'!H13+'08-12.01.2024'!H13+'15-19.01.2024'!H13+'22-26.01.2024'!H13+'29-31.01.2024'!H13+'0'!H13 -> 0 | I13: ='02-05.01.2024'!I13+'08-12.01.2024'!I13+'15-19.01.2024'!I13+'22-26.01.2024'!I13+'29-31.01.2024'!I13+'0'!I13 -> 0 | ... P13: ='02-05.01.2024'!P13+'08-12.01.2024'!P13+'15-19.01.2024'!P13+'22-26.01.2024'!P13+'29-31.01.2024'!P13+'0'!P13 -> 0 | Q13: =SUM(B13:N13) -> 0
A14: Сарај Saraj | B14: ='02-05.01.2024'!B14+'08-12.01.2024'!B14+'15-19.01.2024'!B14+'22-26.01.2024'!B14+'29-31.01.2024'!B14+'0'!B14 -> 2 | C14: ='02-05.01.2024'!C14+'08-12.01.2024'!C14+'15-19.01.2024'!C14+'22-26.01.2024'!C14+'29-31.01.2024'!C14+'0'!C14 -> 1 | D14: ='02-05.01.2024'!D14+'08-12.01.2024'!D14+'15-19.01.2024'!D14+'22-26.01.2024'!D14+'29-31.01.2024'!D14+'0'!D14 -> 0 | E14: ='02-05.01.2024'!E14+'08-12.01.2024'!E14+'15-19.01.2024'!E14+'22-26.01.2024'!E14+'29-31.01.2024'!E14+'0'!E14 -> 0 | F14: ='02-05.01.2024'!F14+'08-12.01.2024'!F14+'15-19.01.2024'!F14+'22-26.01.2024'!F14+'29-31.01.2024'!F14+'0'!F14 -> 0 | G14: ='02-05.01.2024'!G14+'08-12.01.2024'!G14+'15-19.01.2024'!G14+'22-26.01.2024'!G14+'29-31.01.2024'!G14+'0'!G14 -> 0 | H14: ='02-05.01.2024'!H14+'08-12.01.2024'!H14+'15-19.01.2024'!H14+'22-26.01.2024'!H14+'29-31.01.2024'!H14+'0'!H14 -> 0 | I14: ='02-05.01.2024'!I14+'08-12.01.2024'!I14+'15-19.01.2024'!I14+'22-26.01.2024'!I14+'29-31.01.2024'!I14+'0'!I14 -> 0 | ... P14: ='02-05.01.2024'!P14+'08-12.01.2024'!P14+'15-19.01.2024'!P14+'22-26.01.2024'!P14+'29-31.01.2024'!P14+'0'!P14 -> 3 | Q14: =SUM(B14:N14) -> 3
A15: Вкупно Gjithsej | B15: =SUM(B5:B14) -> 80 | C15: =SUM(C5:C14) -> 16 | D15: =SUM(D5:D14) -> 0 | E15: =SUM(E5:E14) -> 0 | F15: =SUM(F5:F14) -> 0 | G15: =SUM(G5:G14) -> 0 | H15: =SUM(H5:H14) -> 16 | I15: =SUM(I5:I14) -> 0 | ... P15: =SUM(P5:P14) -> 113 | Q15: =SUM(B15:N15) -> 120
A16: Напомена: 201 јавувања за сметководство, финансии и наплата, истите се препратени за директен контакт со одделениата.
A17: Shënim: 201 thirrjet për kontabilitet, financa dhe pagesa, përcillen për kontakt të drejtpërdrejtë më departamentet.
A18: Изготвила / Përgatiti: Раководител на ОДД. Грижа за корисници
A19: Денис Бошњак , Самир Исмаили Udhëheqësi I Dep. Kujdesi ndaj shfrytëzuesve
A20: Фросина Ивановска
